BEGIN:VCALENDAR
VERSION:2.0
PRODID:-//Jordan Hernandez Music - ECPv6.13.2.1//NONSGML v1.0//EN
CALSCALE:GREGORIAN
METHOD:PUBLISH
X-ORIGINAL-URL:https://jordanhernandezmusic.com
X-WR-CALDESC:Events for Jordan Hernandez Music
REFRESH-INTERVAL;VALUE=DURATION:PT1H
X-Robots-Tag:noindex
X-PUBLISHED-TTL:PT1H
BEGIN:VTIMEZONE
TZID:America/New_York
BEGIN:DAYLIGHT
TZOFFSETFROM:-0500
TZOFFSETTO:-0400
TZNAME:EDT
DTSTART:20250309T070000
END:DAYLIGHT
BEGIN:STANDARD
TZOFFSETFROM:-0400
TZOFFSETTO:-0500
TZNAME:EST
DTSTART:20251102T060000
END:STANDARD
END:VTIMEZONE
BEGIN:VEVENT
DTSTART;TZID=America/New_York:20251108T160000
DTEND;TZID=America/New_York:20251108T170000
DTSTAMP:20260424T060902
CREATED:20251104T231600Z
LAST-MODIFIED:20251104T231600Z
UID:292-1762617600-1762621200@jordanhernandezmusic.com
SUMMARY:Frank Sinatra Tribute Performance at Porchfest 2025
DESCRIPTION:Admission is Free \n🎶 Band Performance Time: 4:00 PM – 5:00 PM📍 Location: 709 E 41st Street\, Savannah\, GA📅 Festival Hours: 12:00 PM – 7:00 PM on Saturday\, November 8th
URL:https://jordanhernandezmusic.com/event/frank-sinatra-tribute-performance-at-porchfest-2025/
LOCATION:Baldwin Park\, 709 E 41st St\, Savannah\, GA\, 31401\, United States
END:VEVENT
BEGIN:VEVENT
DTSTART;TZID=America/New_York:20251115T170000
DTEND;TZID=America/New_York:20251115T233000
DTSTAMP:20260424T060902
CREATED:20251104T232742Z
LAST-MODIFIED:20251104T235823Z
UID:296-1763226000-1763249400@jordanhernandezmusic.com
SUMMARY:2025 MSAVHCC Annual Awards Banquet and Gala
DESCRIPTION:Dreams that Inspire\, Businesses that Transform\nSaturday\, November 15\, 2025 | 5:00 PM – 11:30 PMHyatt Regency Savannah | Formal Attire \nTICKETS\nGENERAL ADMISSION\n$150 – Members\n$175 – Non-Members\nVIP\n$200 Members / Non-Members \nCelebrate the power of dreams and the people who turn them into lasting impact. The Metropolitan Savannah Hispanic Chamber of Commerce invites you to our 9th Annual Awards Gala\, a signature evening of elegance\, purpose\, and community transformation. \nThis year’s Gala\, themed “Dreams that Inspire\, Businesses that Transform\,” pays tribute to the entrepreneurs\, professionals\, and partners who are shaping the Hispanic business landscape across Coastal Georgia. Join us for: \n\nA glamorous evening of networking with top business and civic leaders\nAn inspiring awards program honoring impactful change makers\nA formal dinner\, cultural entertainment\, and live music\nPowerful stories of success\, resilience\, and community pride.\n\nWhether you’re a business owner\, sponsor\, supporter\, or simply a believer in the power of entrepreneurship\, this event is your opportunity to connect\, celebrate\, and contribute to a brighter future.
URL:https://jordanhernandezmusic.com/event/2025-msavhcc-annual-awards-banquet-and-gala/
LOCATION:Hyatt Regency Savannah\, 2 W Bay St.\, Savannah\, GA\, 31401\, United States
ORGANIZER;CN="Metropolitan Savannah Area Hispanic Chamber of Commerce":MAILTO:info@msavhcc.org
END:VEVENT
BEGIN:VEVENT
DTSTART;TZID=America/New_York:20251116T170000
DTEND;TZID=America/New_York:20251116T203000
DTSTAMP:20260424T060902
CREATED:20251104T234322Z
LAST-MODIFIED:20251104T234322Z
UID:300-1763312400-1763325000@jordanhernandezmusic.com
SUMMARY:Sinatra Under the Stars at The Westin Savannah Harbor
DESCRIPTION:✨ Enjoy an evening of Sinatra classics under the stars with stunning views from the gorgeous grounds of The Westin Savannah Harbor Golf Resort & Spa! This evening of entertainment is produced by Concerts Under the Stars. \nUse the seating chart below to see zones. Attendees will be assigned to their seating arrangements upon arrival. \nHighlights\n🌇 Breathtaking views from the gorgeous grounds of The Westin Savannah Harbor Golf Resort & Spa!\n🎤 Sinatra Under the Stars will transport you back to a time when Sinatra reigned supreme\n🍸 Full Bar Available\n🍽️ Come for dinner before or after the show! The reservation link for Aqua Star is provided in your receipt of purchase! \nGeneral Info\n📅 Dates and times: choose in the ticket selector\, the concert is available at 6:00 p.m. and 8:30 p.m.\n⏳ Duration: 65 minutes (Doors open 1 hour before showtime)\n📍 Location: The Westin Savannah Harbor Golf Resort & Spa\, Savannah\, GA\n👤 Age requirement: 21+ with valid ID\n♿ Accessibility: The venue is accessible with elevators\n☂ In the case of inclement weather\, the show will be moved indoors or rescheduled\n❓ Please note: The Westin Savannah Harbor has a one-drink minimum policy. See your ticket for more details. \nDescription\nSinatra Under the Stars will transport you back to a time when Sinatra reigned the scene. Enjoy a classic cocktail under the stars and melt away “those little town blues”. Sit back and relax to the sounds of Sinatra at one of the best venues that Savannah has to offer\, performed by Georgia’s best! Enjoy delicious cocktails and light bites available for purchase. Elevate your evening with us at The Westin Savannah Harbor Golf Resort & Spa! See you Under the Stars\, Savannah! \nSeating Map
URL:https://jordanhernandezmusic.com/event/sinatra-under-the-stars-at-the-westin-savannah-harbor/
LOCATION:The Westin Savannah Harbor Golf Resort & Spa\, 1 Resort Drive\, Savannah\, GA\, 31421\, United States
ORGANIZER;CN="Fever":MAILTO:N/A
END:VEVENT
END:VCALENDAR