BEGIN:VCALENDAR
VERSION:2.0
PRODID:-//Jordan Hernandez Music - ECPv6.13.2.1//NONSGML v1.0//EN
CALSCALE:GREGORIAN
METHOD:PUBLISH
X-WR-CALNAME:Jordan Hernandez Music
X-ORIGINAL-URL:https://jordanhernandezmusic.com
X-WR-CALDESC:Events for Jordan Hernandez Music
REFRESH-INTERVAL;VALUE=DURATION:PT1H
X-Robots-Tag:noindex
X-PUBLISHED-TTL:PT1H
BEGIN:VTIMEZONE
TZID:America/New_York
BEGIN:DAYLIGHT
TZOFFSETFROM:-0500
TZOFFSETTO:-0400
TZNAME:EDT
DTSTART:20250309T070000
END:DAYLIGHT
BEGIN:STANDARD
TZOFFSETFROM:-0400
TZOFFSETTO:-0500
TZNAME:EST
DTSTART:20251102T060000
END:STANDARD
END:VTIMEZONE
BEGIN:VEVENT
DTSTART;VALUE=DATE:20250712
DTEND;VALUE=DATE:20250713
DTSTAMP:20260424T133257
CREATED:20250417T192437Z
LAST-MODIFIED:20250417T192437Z
UID:195-1752278400-1752364799@jordanhernandezmusic.com
SUMMARY:Private Event - Charleston\, SC
DESCRIPTION:
URL:https://jordanhernandezmusic.com/event/private-event-charleston-sc/
LOCATION:GA
END:VEVENT
BEGIN:VEVENT
DTSTART;TZID=America/New_York:20250724T190000
DTEND;TZID=America/New_York:20250724T210000
DTSTAMP:20260424T133257
CREATED:20250610T234641Z
LAST-MODIFIED:20250610T234641Z
UID:253-1753383600-1753390800@jordanhernandezmusic.com
SUMMARY:Noble Roots - Pooler\, GA.
DESCRIPTION:
URL:https://jordanhernandezmusic.com/event/noble-roots-pooler-ga/
LOCATION:Noble Roots\, 100 Blue Moon Xing\, Pooler\, GA\, 31322\, United States
END:VEVENT
BEGIN:VEVENT
DTSTART;TZID=America/New_York:20250725T170000
DTEND;TZID=America/New_York:20250725T200000
DTSTAMP:20260424T133257
CREATED:20250610T232431Z
LAST-MODIFIED:20250611T001645Z
UID:246-1753462800-1753473600@jordanhernandezmusic.com
SUMMARY:Food Truck Fridays at Port Wentworth City Hall - Port Wentworth\, GA.
DESCRIPTION:Free event bring a chair.
URL:https://jordanhernandezmusic.com/event/food-truck-fridays-in-port-wentworth-featuring-music-by-jordan-hernandez-the-quintessentials/
LOCATION:Port Wentworth City Hall\, 7224 Highway 21\, Port Wentworth\, GA\, 31407\, United States
ORGANIZER;CN="Live Like Locals Savannah":MAILTO:theteam@livelikelocals.tv
END:VEVENT
END:VCALENDAR