BEGIN:VCALENDAR
VERSION:2.0
PRODID:-//Jordan Hernandez Music - ECPv6.13.2.1//NONSGML v1.0//EN
CALSCALE:GREGORIAN
METHOD:PUBLISH
X-ORIGINAL-URL:https://jordanhernandezmusic.com
X-WR-CALDESC:Events for Jordan Hernandez Music
REFRESH-INTERVAL;VALUE=DURATION:PT1H
X-Robots-Tag:noindex
X-PUBLISHED-TTL:PT1H
BEGIN:VTIMEZONE
TZID:America/New_York
BEGIN:DAYLIGHT
TZOFFSETFROM:-0500
TZOFFSETTO:-0400
TZNAME:EDT
DTSTART:20260308T070000
END:DAYLIGHT
BEGIN:STANDARD
TZOFFSETFROM:-0400
TZOFFSETTO:-0500
TZNAME:EST
DTSTART:20261101T060000
END:STANDARD
END:VTIMEZONE
BEGIN:VEVENT
DTSTART;TZID=America/New_York:20260101T110000
DTEND;TZID=America/New_York:20260101T130000
DTSTAMP:20260422T175421
CREATED:20251130T223543Z
LAST-MODIFIED:20251130T223543Z
UID:317-1767265200-1767272400@jordanhernandezmusic.com
SUMMARY:Live Jazz at "Hop Atomica" Featuring Jordan Hernandez & The Quintessentials
DESCRIPTION:Kick off the New Year with great vibes\, great food\, and great music! Join us at Hop Atomica on January 1st from 11:00 AM to 1:00 PM for a lively midday performance by Jordan Hernandez & The Quintessentials. \nSettle in with Hop Atomica’s wood-fired pizzas\, craft brews\, and small-batch spirits as the band fills the space with smooth jazz\, swinging rhythms\, and warm energy. Perfect for easing into 2025 in style. \nWhether you’re grabbing brunch\, meeting up with friends\, or just looking to start the year on a high note\, this New Year’s Day performance is the ideal soundtrack. \nGood music\, good flavor\, and good company. See you at Hop Atomica!
URL:https://jordanhernandezmusic.com/event/live-jazz-at-hop-atomica-featuring-jordan-hernandez-the-quintessentials/
LOCATION:Hop Atomica\, 535 E 39th St\, Savannah\, 31401\, United States
END:VEVENT
BEGIN:VEVENT
DTSTART;TZID=America/New_York:20260324T180000
DTEND;TZID=America/New_York:20260324T200000
DTSTAMP:20260422T175421
CREATED:20260304T224100Z
LAST-MODIFIED:20260304T224100Z
UID:390-1774375200-1774382400@jordanhernandezmusic.com
SUMMARY:Private Event – Savannah Quarters Country Club "A Frank Sinatra Tribute Evening"
DESCRIPTION:Savannah Quarters Country Club invites its members to an exclusive evening of timeless swing and refined elegance. Join Jordan Hernandez & The Quintessentials for a distinguished tribute to Frank Sinatra\, celebrating the smooth vocals and classic charm of a golden era. \nFrom “Fly Me to the Moon” to “I’ve Got You Under My Skin\,” enjoy an intimate performance filled with sophistication and style. \n🎶 6:00 PM – 8:00 PM📅 March 24th📍 Savannah Quarters Country Club \nThis is a private event for members only.
URL:https://jordanhernandezmusic.com/event/private-event-savannah-quarters-country-club-a-frank-sinatra-tribute-evening/
LOCATION:Savannah Quarters Country Club\, 8 Palladian Wy\, Pooler\, GA\, 31322\, United States
END:VEVENT
END:VCALENDAR